BEGIN:VCALENDAR
VERSION:2.0
PRODID:-//ChamberMaster//Event Calendar 2.0//EN
METHOD:PUBLISH
X-PUBLISHED-TTL:P1H
REFRESH-INTERVAL:P1H
CALSCALE:GREGORIAN
BEGIN:VTIMEZONE
TZID:America/New_York
BEGIN:DAYLIGHT
RRULE:FREQ=YEARLY;BYMONTH=3;BYDAY=2SU
DTSTART:20070101T000000
TZOFFSETFROM:-0500
TZOFFSETTO:-0400
TZNAME:Eastern Daylight Time
END:DAYLIGHT
BEGIN:STANDARD
RRULE:FREQ=YEARLY;BYMONTH=11;BYDAY=1SU
DTSTART:20070101T000000
TZOFFSETFROM:-0400
TZOFFSETTO:-0500
TZNAME:Eastern Standard Time
END:STANDARD
END:VTIMEZONE
BEGIN:VEVENT
DTSTART;TZID=America/New_York:20260618T120000
DTEND;TZID=America/New_York:20260618T130000
X-MICROSOFT-CDO-ALLDAYEVENT:FALSE
SUMMARY:Webinar: Result Assessment Tool (RAT): An Open-Source Toolkit for Conducting Studies based on Search Results
DESCRIPTION:Conducting research with results from commercial search engines and other web-based information retrieval systems is challenging due to the "black-box" nature of these systems and limited data access. The Result Assessment Tool (RAT) addresses this by providing an integrated software environment that unifies modules for study design\, automated data collection\, manual assessment in a dedicated interface\, and automated analysis via an extensible classifier framework. The software is designed to assist with various research tasks\, including comparative assessments of result quality\, investigations of source variety\, and content analysis. It emphasizes transparency in methodologies\, reproducibility of outcomes\, and responsible data collection.
X-ALT-DESC;FMTTYPE=text/html:<!DOCTYPE html><html><head><title></title></head><body aria-disabled="false"><p>Conducting research with results from commercial search engines and other web-based information retrieval systems is challenging due to the &ldquo\;black-box&rdquo\; nature of these systems and limited data access. The Result Assessment Tool (RAT) addresses this by providing an integrated software environment that unifies modules for study design\, automated data collection\, manual assessment in a dedicated interface\, and automated analysis via an extensible classifier framework. The software is designed to assist with various research tasks\, including comparative assessments of result quality\, investigations of source variety\, and content analysis. It emphasizes transparency in methodologies\, reproducibility of outcomes\, and responsible data collection.</p></body></html>
LOCATION:
UID:e.1224.1449252
SEQUENCE:3
DTSTAMP:20260424T191147Z
URL:https://www2.asist.org/events/Details/webinar-result-assessment-tool-rat-an-open-source-toolkit-for-conducting-studies-based-on-search-results-1716566?sourceTypeId=Hub
END:VEVENT
END:VCALENDAR
